BEGIN:VCALENDAR
VERSION:2.0
PRODID:-//Tukios.com/
BEGIN:VEVENT
UID:77349007-5d2e-4a61-87de-57f2137e1800@www.schniderfuneralhome.com
DTSTAMP:20260425T203619Z
DTSTART:20260427T170000Z
DTEND:20260427T180000Z
SUMMARY:Funeral Service
DESCRIPTION:
URL:https://www.schniderfuneralhome.com/obituaries/karen-zimmerman
LOCATION:NewLife Fairfield Church 503 3rd Ave S  Fairfield MT 59436
GEO:47.6117299;-111.9798409
END:VEVENT
END:VCALENDAR