BEGIN:VCALENDAR
VERSION:2.0
PRODID:-//Tukios.com/
BEGIN:VEVENT
UID:f7465642-ce42-4adc-931c-5eb75f4957b7@www.schniderfuneralhome.com
DTSTAMP:20260422T020502Z
DTSTART:20260627T200000Z
DTEND:20260627T220000Z
SUMMARY:Celebration of Life
DESCRIPTION:
URL:https://www.schniderfuneralhome.com/obituaries/kathy-kathan
LOCATION:Elks Park 701 Riverside Dr  Great Falls MT 59404
GEO:47.5314923;-111.2975739
END:VEVENT
END:VCALENDAR