BEGIN:VCALENDAR
VERSION:2.0
PRODID:-//Tukios.com/
BEGIN:VEVENT
UID:ca3a8ea1-b409-4127-8b09-245047010167@www.schniderfuneralhome.com
DTSTAMP:20260425T021054Z
DTSTART:20260525T170000Z
DTEND:20260525T180000Z
SUMMARY:Memorial Service
DESCRIPTION:
URL:https://www.schniderfuneralhome.com/obituaries/stella-plachetka
LOCATION:Choteau Methodist Church 12 1st Ave NW  Choteau MT 59422
GEO:47.8108228;-112.1846699
END:VEVENT
END:VCALENDAR